BEGIN:VCALENDAR
VERSION:2.0
PRODID:-//Plone.org//NONSGML plone.app.event//EN
X-WR-TIMEZONE:Brazil/East
BEGIN:VEVENT
SUMMARY:ENCONTRO DA SUPERINTENDENTE DA JUVENTUDE JUNTO AO CONSELHO TUTELAR
  COM OS DCES DAS FACULDADES DESTA CAPITAL.
DTSTART;TZID=Brazil/East;VALUE=DATE-TIME:20170314T140000
DTEND;TZID=Brazil/East;VALUE=DATE-TIME:20170314T170000
DTSTAMP;VALUE=DATE-TIME:20260420T131744Z
UID:c9eef87e9b274f1fa4a015c5d7520593@www.goiania.go.leg.br
CONTACT:VEREADOR CLÉCIO ALVES
CREATED;VALUE=DATE-TIME:20170309T143418Z
LAST-MODIFIED;VALUE=DATE-TIME:20170309T143425Z
LOCATION:AUDITÓRIO JAIME CÂMARA
URL:https://www.goiania.go.leg.br/institucional/eventos/encontro-da-superi
 ntendente-da-juventude-junto-ao-conselho-tutelar-com-os-dces-das-faculdade
 s-desta-capital
END:VEVENT
BEGIN:VTIMEZONE
TZID:Brazil/East
X-LIC-LOCATION:Brazil/East
BEGIN:STANDARD
DTSTART;VALUE=DATE-TIME:20170218T230000
TZNAME:BRT
TZOFFSETFROM:-0200
TZOFFSETTO:-0300
END:STANDARD
END:VTIMEZONE
END:VCALENDAR
