BEGIN:VCALENDAR
VERSION:2.0
PRODID:-//Plone.org//NONSGML plone.app.event//EN
X-WR-TIMEZONE:Brazil/East
BEGIN:VEVENT
SUMMARY:ENCONTRO DA SUPERINTENDÊNCIA  DA JUVENTUDE JUNTO AO CONSELHO TUTE
 LAR COM OS DCES DAS FACULDADES DESTA CAPITAL.
DTSTART;TZID=Brazil/East;VALUE=DATE-TIME:20170224T130000
DTEND;TZID=Brazil/East;VALUE=DATE-TIME:20170224T170000
DTSTAMP;VALUE=DATE-TIME:20260420T115650Z
UID:8a8e0d72b6fe461e820076f1b654dae0@www.goiania.go.leg.br
CONTACT:VEREADOR CLÉCIO ALVES
CREATED;VALUE=DATE-TIME:20170224T114523Z
LAST-MODIFIED;VALUE=DATE-TIME:20170224T114533Z
LOCATION:AUDITÓRIO CARLOS EURICO
URL:https://www.goiania.go.leg.br/institucional/eventos/encontro-da-superi
 ntendencia-da-juventude-junto-ao-conselho-tutelar-com-os-dces-das-faculdad
 es-desta-capital
END:VEVENT
BEGIN:VTIMEZONE
TZID:Brazil/East
X-LIC-LOCATION:Brazil/East
BEGIN:STANDARD
DTSTART;VALUE=DATE-TIME:20170218T230000
TZNAME:BRT
TZOFFSETFROM:-0200
TZOFFSETTO:-0300
END:STANDARD
END:VTIMEZONE
END:VCALENDAR
