BEGIN:VCALENDAR
VERSION:2.0
PRODID:-//Plone.org//NONSGML plone.app.event//EN
X-WR-TIMEZONE:Brazil/East
BEGIN:VEVENT
SUMMARY:ENCONTRO DA MULHER REPUBLICANA.
DTSTART;TZID=Brazil/East;VALUE=DATE-TIME:20170610T080000
DTEND;TZID=Brazil/East;VALUE=DATE-TIME:20170610T120000
DTSTAMP;VALUE=DATE-TIME:20260420T222024Z
UID:37e3d023a39647328a43717c5d82a4b3@www.goiania.go.leg.br
CONTACT:VEREADOR ROGÉRIO CRUZ
CREATED;VALUE=DATE-TIME:20170427T114456Z
LAST-MODIFIED;VALUE=DATE-TIME:20170427T114502Z
LOCATION:AUDITÓRIO JAIME CÂMARA
URL:https://www.goiania.go.leg.br/institucional/eventos/encontro-da-mulher
 -republicana
END:VEVENT
BEGIN:VTIMEZONE
TZID:Brazil/East
X-LIC-LOCATION:Brazil/East
BEGIN:STANDARD
DTSTART;VALUE=DATE-TIME:20170218T230000
TZNAME:BRT
TZOFFSETFROM:-0200
TZOFFSETTO:-0300
END:STANDARD
END:VTIMEZONE
END:VCALENDAR
