BEGIN:VCALENDAR
VERSION:2.0
PRODID:-//Plone.org//NONSGML plone.app.event//EN
X-WR-TIMEZONE:Brazil/East
BEGIN:VEVENT
SUMMARY:ENCONTRO COM EX-CONSELHEIROS TUTELARES DE GOIÂNIA.
DTSTART;TZID=Brazil/East;VALUE=DATE-TIME:20170119T080000
DTEND;TZID=Brazil/East;VALUE=DATE-TIME:20170119T110000
DTSTAMP;VALUE=DATE-TIME:20260420T111600Z
UID:de5e50cff3f241c9bfbd8f5534bf8be4@www.goiania.go.leg.br
CONTACT:VEREADOR VINICIUS CIRQUEIRA
CREATED;VALUE=DATE-TIME:20170116T133127Z
LAST-MODIFIED;VALUE=DATE-TIME:20170118T121126Z
LOCATION:SALA DE REUNIÕES DAS COMISSÕES
URL:https://www.goiania.go.leg.br/institucional/eventos/encontro-com-ex-co
 nselheiros-tutelares-de-goiania
END:VEVENT
BEGIN:VTIMEZONE
TZID:Brazil/East
X-LIC-LOCATION:Brazil/East
BEGIN:DAYLIGHT
DTSTART;VALUE=DATE-TIME:20161016T010000
TZNAME:BRST
TZOFFSETFROM:-0300
TZOFFSETTO:-0200
END:DAYLIGHT
END:VTIMEZONE
END:VCALENDAR
