BEGIN:VCALENDAR
VERSION:2.0
PRODID:-//Plone.org//NONSGML plone.app.event//EN
X-WR-TIMEZONE:Brazil/East
BEGIN:VEVENT
SUMMARY:CURSO SUPERIOR DA PREFEITURA MUNICIPAL DE GOIÂNIA
DTSTART;TZID=Brazil/East;VALUE=DATE-TIME:20160607T080000
DTEND;TZID=Brazil/East;VALUE=DATE-TIME:20160607T120000
DTSTAMP;VALUE=DATE-TIME:20260419T215948Z
UID:fc7b08c8a2694af08fbcec3c9063a527@www.goiania.go.leg.br
CONTACT:VEREADOR DENÍCIO TRINDADE
CREATED;VALUE=DATE-TIME:20160601T125417Z
DESCRIPTION:07
LAST-MODIFIED;VALUE=DATE-TIME:20160601T125421Z
LOCATION:AUDITÓRIO CARLOS EURICO
URL:https://www.goiania.go.leg.br/institucional/eventos/curso-superior-da-
 prefeitura-municipal-de-goiania
END:VEVENT
BEGIN:VTIMEZONE
TZID:Brazil/East
X-LIC-LOCATION:Brazil/East
BEGIN:STANDARD
DTSTART;VALUE=DATE-TIME:20160220T230000
TZNAME:BRT
TZOFFSETFROM:-0200
TZOFFSETTO:-0300
END:STANDARD
END:VTIMEZONE
END:VCALENDAR
