BEGIN:VCALENDAR
VERSION:2.0
PRODID:-//Plone.org//NONSGML plone.app.event//EN
X-WR-TIMEZONE:Brazil/East
BEGIN:VEVENT
SUMMARY:CURSO DE PSICOPATOLIGIA DA COOPERATIVA GOIANA DE PSICOLOGIA.
DTSTART;TZID=Brazil/East;VALUE=DATE-TIME:20171119T080000
DTEND;TZID=Brazil/East;VALUE=DATE-TIME:20171119T170000
DTSTAMP;VALUE=DATE-TIME:20260420T144034Z
UID:80923e3a4c274a56aef12a5820f5edcd@www.goiania.go.leg.br
CONTACT:VEREADORA DRA. CRISTINA LOPES AFONSO
CREATED;VALUE=DATE-TIME:20170316T153059Z
LAST-MODIFIED;VALUE=DATE-TIME:20170316T153104Z
LOCATION:AUDITÓRIO CARLOS EURICO
URL:https://www.goiania.go.leg.br/institucional/eventos/curso-de-psicopato
 ligia-da-cooperativa-goiana-de-psicologia-7
END:VEVENT
BEGIN:VTIMEZONE
TZID:Brazil/East
X-LIC-LOCATION:Brazil/East
BEGIN:DAYLIGHT
DTSTART;VALUE=DATE-TIME:20171015T010000
TZNAME:BRST
TZOFFSETFROM:-0300
TZOFFSETTO:-0200
END:DAYLIGHT
END:VTIMEZONE
END:VCALENDAR
