BEGIN:VCALENDAR
VERSION:2.0
PRODID:-//Plone.org//NONSGML plone.app.event//EN
X-WR-TIMEZONE:Brazil/East
BEGIN:VEVENT
SUMMARY:CURSO DE PSICOPATOLIGIA DA COOPERATIVA GOIANA DE PSICOLOGIA.
DTSTART;TZID=Brazil/East;VALUE=DATE-TIME:20170521T080000
DTEND;TZID=Brazil/East;VALUE=DATE-TIME:20170521T170000
DTSTAMP;VALUE=DATE-TIME:20260420T144013Z
UID:b1a8a15c3f20440085aa3f449defb39c@www.goiania.go.leg.br
CONTACT:VEREADORA DRA. CRISTINA LOPES AFONSO
CREATED;VALUE=DATE-TIME:20170316T152534Z
LAST-MODIFIED;VALUE=DATE-TIME:20170316T152539Z
LOCATION:AUDITÓRIO CARLOS EURICO
URL:https://www.goiania.go.leg.br/institucional/eventos/curso-de-psicopato
 ligia-da-cooperativa-goiana-de-psicologia-2
END:VEVENT
BEGIN:VTIMEZONE
TZID:Brazil/East
X-LIC-LOCATION:Brazil/East
BEGIN:STANDARD
DTSTART;VALUE=DATE-TIME:20170218T230000
TZNAME:BRT
TZOFFSETFROM:-0200
TZOFFSETTO:-0300
END:STANDARD
END:VTIMEZONE
END:VCALENDAR
