BEGIN:VCALENDAR
VERSION:2.0
PRODID:-//Plone.org//NONSGML plone.app.event//EN
X-WR-TIMEZONE:Brazil/East
BEGIN:VEVENT
SUMMARY:CURSO DE APRIMORAMENTO EM FISIOTERAPIA ESPORTIVA\, PARA FISIOTERAP
 EUTAS E ACADÊMICOS DE FISIOTERAPIA.
DTSTART;TZID=Brazil/East;VALUE=DATE-TIME:20170916T080000
DTEND;TZID=Brazil/East;VALUE=DATE-TIME:20170916T180000
DTSTAMP;VALUE=DATE-TIME:20260421T095717Z
UID:2b3f612a15dd4e87b634a713a8798bcc@www.goiania.go.leg.br
CONTACT:VEREADORA DRA. CRISTINA LOPES AFONSO
CREATED;VALUE=DATE-TIME:20170912T223105Z
LAST-MODIFIED;VALUE=DATE-TIME:20170912T223113Z
LOCATION:AUDITÓRIO JAIMA CÂMARA
URL:https://www.goiania.go.leg.br/institucional/eventos/curso-de-aprimoram
 ento-em-fisioterapia-esportiva-para-fisioterapeutas-e-academicos-de-fisiot
 erapia
END:VEVENT
BEGIN:VTIMEZONE
TZID:Brazil/East
X-LIC-LOCATION:Brazil/East
BEGIN:STANDARD
DTSTART;VALUE=DATE-TIME:20170218T230000
TZNAME:BRT
TZOFFSETFROM:-0200
TZOFFSETTO:-0300
END:STANDARD
END:VTIMEZONE
END:VCALENDAR
