BEGIN:VCALENDAR
VERSION:2.0
PRODID:-//Plone.org//NONSGML plone.app.event//EN
X-WR-TIMEZONE:Brazil/East
BEGIN:VEVENT
SUMMARY:CURSO DE APRIMORAMENTO EM FISIOTERAPIA ESPORTIVA\, PARA FISIOTERAP
 EUTAS E ACADÊMICOS DE FISIOTERAPIA.
DTSTART;TZID=Brazil/East;VALUE=DATE-TIME:20170917T080000
DTEND;TZID=Brazil/East;VALUE=DATE-TIME:20170917T120000
DTSTAMP;VALUE=DATE-TIME:20260421T095717Z
UID:8942c619caaa45e4b35815808c1ede83@www.goiania.go.leg.br
CONTACT:VEREADORA DRA. CRISTINA LOPES AFONSO
CREATED;VALUE=DATE-TIME:20170912T223221Z
LAST-MODIFIED;VALUE=DATE-TIME:20170912T223227Z
LOCATION:AUDITÓRIO JAIME CÂMARA
URL:https://www.goiania.go.leg.br/institucional/eventos/curso-de-aprimoram
 ento-em-fisioterapia-esportiva-para-fisioterapeutas-e-academicos-de-fisiot
 erapia-1
END:VEVENT
BEGIN:VTIMEZONE
TZID:Brazil/East
X-LIC-LOCATION:Brazil/East
BEGIN:STANDARD
DTSTART;VALUE=DATE-TIME:20170218T230000
TZNAME:BRT
TZOFFSETFROM:-0200
TZOFFSETTO:-0300
END:STANDARD
END:VTIMEZONE
END:VCALENDAR
