BEGIN:VCALENDAR
VERSION:2.0
PRODID:-//Plone.org//NONSGML plone.app.event//EN
X-WR-TIMEZONE:Brazil/East
BEGIN:VEVENT
SUMMARY:COMISSÃO ESPECIAL DE INQUÉRITO - CEI - SECRETARIA DE SAÚDE.
DTSTART;TZID=Brazil/East;VALUE=DATE-TIME:20171222T083000
DTEND;TZID=Brazil/East;VALUE=DATE-TIME:20171222T120000
DTSTAMP;VALUE=DATE-TIME:20260420T155615Z
UID:938269d7756d437b8188c5b080e2b042@www.goiania.go.leg.br
CONTACT:VEREADOR CLÉCIO ALVES
CREATED;VALUE=DATE-TIME:20171127T203334Z
LAST-MODIFIED;VALUE=DATE-TIME:20171127T203339Z
LOCATION:SALA DE REUNIÃO DAS COMISSÕES
URL:https://www.goiania.go.leg.br/institucional/eventos/comissao-especial-
 de-inquerito-cei-secretaria-de-saude-6
END:VEVENT
BEGIN:VTIMEZONE
TZID:Brazil/East
X-LIC-LOCATION:Brazil/East
BEGIN:DAYLIGHT
DTSTART;VALUE=DATE-TIME:20171015T010000
TZNAME:BRST
TZOFFSETFROM:-0300
TZOFFSETTO:-0200
END:DAYLIGHT
END:VTIMEZONE
END:VCALENDAR
