BEGIN:VCALENDAR
VERSION:2.0
PRODID:-//Plone.org//NONSGML plone.app.event//EN
X-WR-TIMEZONE:Brazil/East
BEGIN:VEVENT
SUMMARY:CEI DA PREFEITURA 2008/2016.
DTSTART;TZID=Brazil/East;VALUE=DATE-TIME:20170614T143000
DTEND;TZID=Brazil/East;VALUE=DATE-TIME:20170614T180000
DTSTAMP;VALUE=DATE-TIME:20260420T114755Z
UID:b1c3d41c411e49c99702c56981b8f87b@www.goiania.go.leg.br
CONTACT:VEREADOR ZANDER FÁBIO
CREATED;VALUE=DATE-TIME:20170608T145835Z
LAST-MODIFIED;VALUE=DATE-TIME:20170608T145840Z
LOCATION:AUDITÓRIO CARLOS EURICO
URL:https://www.goiania.go.leg.br/institucional/eventos/cei-da-prefeitura-
 2008-2016
END:VEVENT
BEGIN:VTIMEZONE
TZID:Brazil/East
X-LIC-LOCATION:Brazil/East
BEGIN:STANDARD
DTSTART;VALUE=DATE-TIME:20170218T230000
TZNAME:BRT
TZOFFSETFROM:-0200
TZOFFSETTO:-0300
END:STANDARD
END:VTIMEZONE
END:VCALENDAR
