BEGIN:VCALENDAR
VERSION:2.0
PRODID:-//Plone.org//NONSGML plone.app.event//EN
X-WR-TIMEZONE:Brazil/East
BEGIN:VEVENT
SUMMARY:CEI DA PREFEITURA 2008/2016.
DTSTART;TZID=Brazil/East;VALUE=DATE-TIME:20170619T143000
DTEND;TZID=Brazil/East;VALUE=DATE-TIME:20170619T180000
DTSTAMP;VALUE=DATE-TIME:20260420T114823Z
UID:ea2f43f02f9f470e85199303208a4560@www.goiania.go.leg.br
CONTACT:VEREADOR ZANDER FÁBIO
CREATED;VALUE=DATE-TIME:20170608T153032Z
LAST-MODIFIED;VALUE=DATE-TIME:20170608T153036Z
LOCATION:SALA DE REUN IÃO DAS COMISSÕES
URL:https://www.goiania.go.leg.br/institucional/eventos/cei-da-prefeitura-
 2008-2016-3
END:VEVENT
BEGIN:VTIMEZONE
TZID:Brazil/East
X-LIC-LOCATION:Brazil/East
BEGIN:STANDARD
DTSTART;VALUE=DATE-TIME:20170218T230000
TZNAME:BRT
TZOFFSETFROM:-0200
TZOFFSETTO:-0300
END:STANDARD
END:VTIMEZONE
END:VCALENDAR
