BEGIN:VCALENDAR
VERSION:2.0
PRODID:-//Plone.org//NONSGML plone.app.event//EN
X-WR-TIMEZONE:Brazil/East
BEGIN:VEVENT
SUMMARY:CEI CONTAS DA PREFEITURA DE 2008/2016.
DTSTART;TZID=Brazil/East;VALUE=DATE-TIME:20170823T143000
DTEND;TZID=Brazil/East;VALUE=DATE-TIME:20170823T180000
DTSTAMP;VALUE=DATE-TIME:20260420T115500Z
UID:4296b24e19d54114801e1c49f36df3a2@www.goiania.go.leg.br
CONTACT:VEREADOR ZANDER FÁBIO
CREATED;VALUE=DATE-TIME:20170810T145407Z
LAST-MODIFIED;VALUE=DATE-TIME:20170810T145412Z
LOCATION:SALA DE REUNIÃOI DAS COMISSÕES
URL:https://www.goiania.go.leg.br/institucional/eventos/cei-contas-da-pref
 eitura-de-2008-2016-3
END:VEVENT
BEGIN:VTIMEZONE
TZID:Brazil/East
X-LIC-LOCATION:Brazil/East
BEGIN:STANDARD
DTSTART;VALUE=DATE-TIME:20170218T230000
TZNAME:BRT
TZOFFSETFROM:-0200
TZOFFSETTO:-0300
END:STANDARD
END:VTIMEZONE
END:VCALENDAR
