BEGIN:VCALENDAR
VERSION:2.0
PRODID:-//Plone.org//NONSGML plone.app.event//EN
X-WR-TIMEZONE:Brazil/East
BEGIN:VEVENT
SUMMARY:CANTADA DE NATAL DO COLÉGIO ANTARES.
DTSTART;TZID=Brazil/East;VALUE=DATE-TIME:20171213T190000
DTEND;TZID=Brazil/East;VALUE=DATE-TIME:20171213T220000
DTSTAMP;VALUE=DATE-TIME:20260420T131418Z
UID:2094ab649bc74bfe85c930411aaab4dc@www.goiania.go.leg.br
CONTACT:DEPUTADO ESTADUAL JOSÉ NELTO
CREATED;VALUE=DATE-TIME:20171124T094659Z
LAST-MODIFIED;VALUE=DATE-TIME:20171124T094710Z
LOCATION:AUDITÓRIO JAIME CÂMARA
URL:https://www.goiania.go.leg.br/institucional/eventos/cantada-de-natal-d
 o-colegio-antares
END:VEVENT
BEGIN:VTIMEZONE
TZID:Brazil/East
X-LIC-LOCATION:Brazil/East
BEGIN:DAYLIGHT
DTSTART;VALUE=DATE-TIME:20171015T010000
TZNAME:BRST
TZOFFSETFROM:-0300
TZOFFSETTO:-0200
END:DAYLIGHT
END:VTIMEZONE
END:VCALENDAR
