BEGIN:VCALENDAR
VERSION:2.0
PRODID:-//Plone.org//NONSGML plone.app.event//EN
X-WR-TIMEZONE:Brazil/East
BEGIN:VEVENT
SUMMARY:CÂMARA ITINERANTE NA VILA PEDROSO.
DTSTART;TZID=Brazil/East;VALUE=DATE-TIME:20160609T080000
DTEND;TZID=Brazil/East;VALUE=DATE-TIME:20160609T180000
DTSTAMP;VALUE=DATE-TIME:20260419T231225Z
UID:f372c20616274cefaabf8adaa47ccb5c@www.goiania.go.leg.br
CONTACT:MESA DIRETORA
CREATED;VALUE=DATE-TIME:20160606T221900Z
LAST-MODIFIED;VALUE=DATE-TIME:20160606T221905Z
LOCATION:VILA PEDROSO
URL:https://www.goiania.go.leg.br/institucional/eventos/camara-itinerante-
 na-vila-pedroso
END:VEVENT
BEGIN:VTIMEZONE
TZID:Brazil/East
X-LIC-LOCATION:Brazil/East
BEGIN:STANDARD
DTSTART;VALUE=DATE-TIME:20160220T230000
TZNAME:BRT
TZOFFSETFROM:-0200
TZOFFSETTO:-0300
END:STANDARD
END:VTIMEZONE
END:VCALENDAR
