BEGIN:VCALENDAR
VERSION:2.0
PRODID:-//Plone.org//NONSGML plone.app.event//EN
X-WR-TIMEZONE:Brazil/East
BEGIN:VEVENT
SUMMARY:AUDIÊNCIA PÚBLICA SOBRE RECURSOS HÍDRICOS NO MUNICÍPIO DE GOI
 ÂNIA.
DTSTART;TZID=Brazil/East;VALUE=DATE-TIME:20171114T140000
DTEND;TZID=Brazil/East;VALUE=DATE-TIME:20171114T170000
DTSTAMP;VALUE=DATE-TIME:20260420T075415Z
UID:ed6f984027194f06ba53f968bdd74420@www.goiania.go.leg.br
CONTACT:VEREADORA DRA. CRISTINA LOPES AFONSO
CREATED;VALUE=DATE-TIME:20171107T102145Z
LAST-MODIFIED;VALUE=DATE-TIME:20171107T102152Z
LOCATION:AUDITÓRIO JAIME CÂMARA
URL:https://www.goiania.go.leg.br/institucional/eventos/audiencia-publica-
 sobre-recursos-hidricos-no-municipio-de-goiania
END:VEVENT
BEGIN:VTIMEZONE
TZID:Brazil/East
X-LIC-LOCATION:Brazil/East
BEGIN:DAYLIGHT
DTSTART;VALUE=DATE-TIME:20171015T010000
TZNAME:BRST
TZOFFSETFROM:-0300
TZOFFSETTO:-0200
END:DAYLIGHT
END:VTIMEZONE
END:VCALENDAR
