BEGIN:VCALENDAR
VERSION:2.0
PRODID:-//Plone.org//NONSGML plone.app.event//EN
X-WR-TIMEZONE:Brazil/East
BEGIN:VEVENT
SUMMARY:AUDIÊNCIA PÚBLICA PARA TRATARMOS DE ASSUNTOS RELACIONADOS A SAÚ
 DE MUNICIPAL DE GOIÂNIA.
DTSTART;TZID=Brazil/East;VALUE=DATE-TIME:20171204T150000
DTEND;TZID=Brazil/East;VALUE=DATE-TIME:20171204T180000
DTSTAMP;VALUE=DATE-TIME:20260420T024626Z
UID:124a62991e674317afe7c86f88833776@www.goiania.go.leg.br
CONTACT:VEREADOR VINICIUS CIRQUEIRA
CREATED;VALUE=DATE-TIME:20171130T102502Z
LAST-MODIFIED;VALUE=DATE-TIME:20171130T102512Z
LOCATION:AUDITÓRIO CARLOS EURICO
URL:https://www.goiania.go.leg.br/institucional/eventos/audiencia-publica-
 para-tratarmos-de-assuntos-relacionados-a-saude-municipal-de-goiania
END:VEVENT
BEGIN:VTIMEZONE
TZID:Brazil/East
X-LIC-LOCATION:Brazil/East
BEGIN:DAYLIGHT
DTSTART;VALUE=DATE-TIME:20171015T010000
TZNAME:BRST
TZOFFSETFROM:-0300
TZOFFSETTO:-0200
END:DAYLIGHT
END:VTIMEZONE
END:VCALENDAR
