BEGIN:VCALENDAR
VERSION:2.0
PRODID:-//Plone.org//NONSGML plone.app.event//EN
X-WR-TIMEZONE:Brazil/East
BEGIN:VEVENT
SUMMARY:AUDIÊNCIA PÚBLICA PARA TRATAR SOBRE A ESCASSEZ DE ÁGUA.
DTSTART;TZID=Brazil/East;VALUE=DATE-TIME:20170922T090000
DTEND;TZID=Brazil/East;VALUE=DATE-TIME:20170922T130000
DTSTAMP;VALUE=DATE-TIME:20260420T033054Z
UID:fbe514f21e504386885227b57194f52e@www.goiania.go.leg.br
CONTACT:VEREADOR FELISBERTO TAVARES
CREATED;VALUE=DATE-TIME:20170906T154154Z
LAST-MODIFIED;VALUE=DATE-TIME:20170906T154200Z
LOCATION:SALA DE REUNIÃO DAS COMISSÕES
URL:https://www.goiania.go.leg.br/institucional/eventos/audiencia-publica-
 para-tratar-sobre-a-escassez-de-agua
END:VEVENT
BEGIN:VTIMEZONE
TZID:Brazil/East
X-LIC-LOCATION:Brazil/East
BEGIN:STANDARD
DTSTART;VALUE=DATE-TIME:20170218T230000
TZNAME:BRT
TZOFFSETFROM:-0200
TZOFFSETTO:-0300
END:STANDARD
END:VTIMEZONE
END:VCALENDAR
