BEGIN:VCALENDAR
VERSION:2.0
PRODID:-//Plone.org//NONSGML plone.app.event//EN
X-WR-TIMEZONE:Brazil/East
BEGIN:VEVENT
SUMMARY:AUDIÊNCIA PÚBLICA PARA DISCUTIR SOBRE O SOS VIDA AMARELA.
DTSTART;TZID=Brazil/East;VALUE=DATE-TIME:20170906T090000
DTEND;TZID=Brazil/East;VALUE=DATE-TIME:20170906T120000
DTSTAMP;VALUE=DATE-TIME:20260419T190223Z
UID:4da56c9432e1461d9c3328805100af16@www.goiania.go.leg.br
CONTACT:VEREADOR SARGENTO NOVANDIR
CREATED;VALUE=DATE-TIME:20170830T113232Z
LAST-MODIFIED;VALUE=DATE-TIME:20170830T113243Z
LOCATION:AUDITÓRIO CARLOS EURICO
URL:https://www.goiania.go.leg.br/institucional/eventos/audiencia-publica-
 para-discutir-sobre-o-sos-vida-amarela
END:VEVENT
BEGIN:VTIMEZONE
TZID:Brazil/East
X-LIC-LOCATION:Brazil/East
BEGIN:STANDARD
DTSTART;VALUE=DATE-TIME:20170218T230000
TZNAME:BRT
TZOFFSETFROM:-0200
TZOFFSETTO:-0300
END:STANDARD
END:VTIMEZONE
END:VCALENDAR
