BEGIN:VCALENDAR
VERSION:2.0
PRODID:-//Plone.org//NONSGML plone.app.event//EN
X-WR-TIMEZONE:Brazil/East
BEGIN:VEVENT
SUMMARY:AUDIÊNCIA PÚBLICA PARA DISCUTIR SOBRE AS POLÍTICAS PÚBLICAS PA
 RA A PREVENÇÃO DO SUICÍDIO.
DTSTART;TZID=Brazil/East;VALUE=DATE-TIME:20160915T143000
DTEND;TZID=Brazil/East;VALUE=DATE-TIME:20160915T180000
DTSTAMP;VALUE=DATE-TIME:20260419T174603Z
UID:db050db260214ba3a20ef00a4925e44c@www.goiania.go.leg.br
CONTACT:VEREADOR FELISBERTO TAVARES
CREATED;VALUE=DATE-TIME:20160801T140105Z
LAST-MODIFIED;VALUE=DATE-TIME:20160801T140110Z
LOCATION:AUDITÓRIO CARLOS EURICO
URL:https://www.goiania.go.leg.br/institucional/eventos/audiencia-publica-
 para-discutir-sobre-as-politicas-publicas-para-a-prevencao-do-suicidio
END:VEVENT
BEGIN:VTIMEZONE
TZID:Brazil/East
X-LIC-LOCATION:Brazil/East
BEGIN:STANDARD
DTSTART;VALUE=DATE-TIME:20160220T230000
TZNAME:BRT
TZOFFSETFROM:-0200
TZOFFSETTO:-0300
END:STANDARD
END:VTIMEZONE
END:VCALENDAR
