BEGIN:VCALENDAR
VERSION:2.0
PRODID:-//Plone.org//NONSGML plone.app.event//EN
X-WR-TIMEZONE:Brazil/East
BEGIN:VEVENT
SUMMARY:AUDIÊNCIA PÚBLICA PARA DISCUTIR "SOBRE A VEDAÇÃO DA INSTALÇÃ
 O DE BANCAS COMERCIAIS.
DTSTART;TZID=Brazil/East;VALUE=DATE-TIME:20160608T150000
DTEND;TZID=Brazil/East;VALUE=DATE-TIME:20160608T180000
DTSTAMP;VALUE=DATE-TIME:20260419T231350Z
UID:d5d2ce752df04904a652fdfe00811c1a@www.goiania.go.leg.br
CONTACT:VEREADOR ANSELMO PEREIRA
CREATED;VALUE=DATE-TIME:20160607T220136Z
LAST-MODIFIED;VALUE=DATE-TIME:20160607T220142Z
LOCATION:SALA DE REUNIÕES DA PRESIDÊNCIA
URL:https://www.goiania.go.leg.br/institucional/eventos/audiencia-publica-
 para-discutir-sobre-a-vedacao-da-instalcao-de-bancas-comerciais
END:VEVENT
BEGIN:VTIMEZONE
TZID:Brazil/East
X-LIC-LOCATION:Brazil/East
BEGIN:STANDARD
DTSTART;VALUE=DATE-TIME:20160220T230000
TZNAME:BRT
TZOFFSETFROM:-0200
TZOFFSETTO:-0300
END:STANDARD
END:VTIMEZONE
END:VCALENDAR
