BEGIN:VCALENDAR
VERSION:2.0
PRODID:-//Plone.org//NONSGML plone.app.event//EN
X-WR-TIMEZONE:Brazil/East
BEGIN:VEVENT
SUMMARY:AUDIÊNCIA PÚBLICA PARA DISCUTIR SOBRE A REQUALIFICAÇÃO DA AVEN
 IDA BERNARDO SAYÃO E ADJACÊNCIAS
DTSTART;TZID=Brazil/East;VALUE=DATE-TIME:20160706T150000
DTEND;TZID=Brazil/East;VALUE=DATE-TIME:20160706T180000
DTSTAMP;VALUE=DATE-TIME:20260419T202355Z
UID:0c46dac047e44767936f5c044889378c@www.goiania.go.leg.br
CONTACT:VEREADOR ANSELMO PEREIRA
CREATED;VALUE=DATE-TIME:20160627T144852Z
LAST-MODIFIED;VALUE=DATE-TIME:20160627T152400Z
LOCATION:SALA DE REUNIÕES DA PRESIDÊNCIA
URL:https://www.goiania.go.leg.br/institucional/eventos/audiencia-publica-
 para-discutir-sobre-a-requalificacao-da-avenida-bernardo-sayao-e-adjacenci
 as
END:VEVENT
BEGIN:VTIMEZONE
TZID:Brazil/East
X-LIC-LOCATION:Brazil/East
BEGIN:STANDARD
DTSTART;VALUE=DATE-TIME:20160220T230000
TZNAME:BRT
TZOFFSETFROM:-0200
TZOFFSETTO:-0300
END:STANDARD
END:VTIMEZONE
END:VCALENDAR
