BEGIN:VCALENDAR
VERSION:2.0
PRODID:-//Plone.org//NONSGML plone.app.event//EN
X-WR-TIMEZONE:Brazil/East
BEGIN:VEVENT
SUMMARY:AUDIÊNCIA PÚBLICA PARA DISCUTIR SOBRE A REGULARIZAÇÃO FUNDIÁR
 IA DO SETOR PEDRO LUDOVICO.
DTSTART;TZID=Brazil/East;VALUE=DATE-TIME:20170307T143000
DTEND;TZID=Brazil/East;VALUE=DATE-TIME:20170307T180000
DTSTAMP;VALUE=DATE-TIME:20260419T174436Z
UID:01b8925330fd40039a6be4b7f25027c5@www.goiania.go.leg.br
CONTACT:VEREADOR PAULO MAGALHÃES
CREATED;VALUE=DATE-TIME:20170209T134019Z
LAST-MODIFIED;VALUE=DATE-TIME:20170209T134024Z
LOCATION:AUDITÓRIO CARLOS EURICO
URL:https://www.goiania.go.leg.br/institucional/eventos/audiencia-publica-
 para-discutir-sobre-a-regularizacao-fundiaria-do-setor-pedro-ludovico
END:VEVENT
BEGIN:VTIMEZONE
TZID:Brazil/East
X-LIC-LOCATION:Brazil/East
BEGIN:STANDARD
DTSTART;VALUE=DATE-TIME:20170218T230000
TZNAME:BRT
TZOFFSETFROM:-0200
TZOFFSETTO:-0300
END:STANDARD
END:VTIMEZONE
END:VCALENDAR
