BEGIN:VCALENDAR
VERSION:2.0
PRODID:-//Plone.org//NONSGML plone.app.event//EN
X-WR-TIMEZONE:Brazil/East
BEGIN:VEVENT
SUMMARY:AUDIÊNCIA PÚBLICA PARA DISCUTIR  O SISTEMA DO MEIO AMBIENTE.
DTSTART;TZID=Brazil/East;VALUE=DATE-TIME:20161122T140000
DTEND;TZID=Brazil/East;VALUE=DATE-TIME:20161122T180000
DTSTAMP;VALUE=DATE-TIME:20260419T162054Z
UID:0c890245a19948fa9d9935a086699692@www.goiania.go.leg.br
CONTACT:VEREADOR PAULINHO GRAUS
CREATED;VALUE=DATE-TIME:20161110T132249Z
LAST-MODIFIED;VALUE=DATE-TIME:20161110T132256Z
LOCATION:AUDITÓRIO CARLOS EURICO
URL:https://www.goiania.go.leg.br/institucional/eventos/audiencia-publica-
 para-discutir-o-sistema-do-meio-ambiente
END:VEVENT
BEGIN:VTIMEZONE
TZID:Brazil/East
X-LIC-LOCATION:Brazil/East
BEGIN:DAYLIGHT
DTSTART;VALUE=DATE-TIME:20161016T010000
TZNAME:BRST
TZOFFSETFROM:-0300
TZOFFSETTO:-0200
END:DAYLIGHT
END:VTIMEZONE
END:VCALENDAR
