BEGIN:VCALENDAR
VERSION:2.0
PRODID:-//Plone.org//NONSGML plone.app.event//EN
X-WR-TIMEZONE:Brazil/East
BEGIN:VEVENT
SUMMARY:AUDIÊNCIA PÚBLICA PARA DISCUTIR O PROJETO DE LEI Nº 128/2017 - 
 LEI DE DIRETRIZES ORÇAMENTÁRIAS - LDO.
DTSTART;TZID=Brazil/East;VALUE=DATE-TIME:20170605T090000
DTEND;TZID=Brazil/East;VALUE=DATE-TIME:20170605T120000
DTSTAMP;VALUE=DATE-TIME:20260419T214734Z
UID:bb1354f285fe45ee923498e49da76589@www.goiania.go.leg.br
CONTACT:VEREADOR GUSTAVO CRUVINEL
CREATED;VALUE=DATE-TIME:20170511T134712Z
LAST-MODIFIED;VALUE=DATE-TIME:20170511T134716Z
LOCATION:SALA DE REUNIÕES DA PRESIDÊNCIA
URL:https://www.goiania.go.leg.br/institucional/eventos/audiencia-publica-
 para-discutir-o-projeto-de-lei-no-128-2017-lei-de-diretrizes-orcamentarias
 -ldo-1
END:VEVENT
BEGIN:VTIMEZONE
TZID:Brazil/East
X-LIC-LOCATION:Brazil/East
BEGIN:STANDARD
DTSTART;VALUE=DATE-TIME:20170218T230000
TZNAME:BRT
TZOFFSETFROM:-0200
TZOFFSETTO:-0300
END:STANDARD
END:VTIMEZONE
END:VCALENDAR
