BEGIN:VCALENDAR
VERSION:2.0
PRODID:-//Plone.org//NONSGML plone.app.event//EN
X-WR-TIMEZONE:Brazil/East
BEGIN:VEVENT
SUMMARY:AUDIÊNCIA PÚBLICA PARA DISCUTIR O PROJETO DE EMENDA CONSTITUCION
 AL DA PEC. Nº 287/2017.
DTSTART;TZID=Brazil/East;VALUE=DATE-TIME:20170410T143000
DTEND;TZID=Brazil/East;VALUE=DATE-TIME:20170410T180000
DTSTAMP;VALUE=DATE-TIME:20260419T174236Z
UID:8c681d9c42724bb7a9c3d8ff9874aa8f@www.goiania.go.leg.br
CONTACT:VEREADOR GCM ROMÁRIO POLICARPO
CREATED;VALUE=DATE-TIME:20170321T141857Z
LAST-MODIFIED;VALUE=DATE-TIME:20170321T141903Z
LOCATION:AUDITÓRIO CARLOS EURICO
URL:https://www.goiania.go.leg.br/institucional/eventos/audiencia-publica-
 para-discutir-o-projeto-de-emenda-constitucional-da-pec-no-287-2017
END:VEVENT
BEGIN:VTIMEZONE
TZID:Brazil/East
X-LIC-LOCATION:Brazil/East
BEGIN:STANDARD
DTSTART;VALUE=DATE-TIME:20170218T230000
TZNAME:BRT
TZOFFSETFROM:-0200
TZOFFSETTO:-0300
END:STANDARD
END:VTIMEZONE
END:VCALENDAR
