BEGIN:VCALENDAR
VERSION:2.0
PRODID:-//Plone.org//NONSGML plone.app.event//EN
X-WR-TIMEZONE:Brazil/East
BEGIN:VEVENT
SUMMARY:AUDIÊNCIA PÚBLICA PARA DISCUTIR O PLANO DIRETOR E A EXPANSÃO UR
 BANA.
DTSTART;TZID=Brazil/East;VALUE=DATE-TIME:20170207T140000
DTEND;TZID=Brazil/East;VALUE=DATE-TIME:20170207T180000
DTSTAMP;VALUE=DATE-TIME:20260419T190155Z
UID:f91286939d224ed28d37afba70d21ef2@www.goiania.go.leg.br
CONTACT:VEREADORA DRA. CRISTINA LOPES AFONSO
CREATED;VALUE=DATE-TIME:20170207T140032Z
LAST-MODIFIED;VALUE=DATE-TIME:20170207T140038Z
LOCATION:SALA DE REUNIÕES DAS COMISSÕES
URL:https://www.goiania.go.leg.br/institucional/eventos/audiencia-publica-
 para-discutir-o-plano-diretor-e-a-expansao-urbana
END:VEVENT
BEGIN:VTIMEZONE
TZID:Brazil/East
X-LIC-LOCATION:Brazil/East
BEGIN:DAYLIGHT
DTSTART;VALUE=DATE-TIME:20161016T010000
TZNAME:BRST
TZOFFSETFROM:-0300
TZOFFSETTO:-0200
END:DAYLIGHT
END:VTIMEZONE
END:VCALENDAR
