BEGIN:VCALENDAR
VERSION:2.0
PRODID:-//Plone.org//NONSGML plone.app.event//EN
X-WR-TIMEZONE:Brazil/East
BEGIN:VEVENT
SUMMARY:AUDIÊNCIA PÚBLICA PARA DISCUTIR COM OS MÚSICOS E O PODER PÚBLI
 CO A REGULARIZAÇÃO DE MÚSICA AO VIVO EM BARES E RESTAURANTES SIMILARES.
DTSTART;TZID=Brazil/East;VALUE=DATE-TIME:20170220T140000
DTEND;TZID=Brazil/East;VALUE=DATE-TIME:20170220T180000
DTSTAMP;VALUE=DATE-TIME:20260420T021701Z
UID:79ec237293454ba9afc0b079dff43500@www.goiania.go.leg.br
CONTACT:VEREADOR PAULO MAGALHÃES
CREATED;VALUE=DATE-TIME:20170116T113418Z
LAST-MODIFIED;VALUE=DATE-TIME:20170214T120348Z
LOCATION:AUDITÓRIO CARLOS EURICO
URL:https://www.goiania.go.leg.br/institucional/eventos/audiencia-publica-
 para-discutir-com-os-musicos-e-o-poder-publico-a-regularizacao-de-musica-a
 o-vivo-em-bares-e-restaurantes-similares
END:VEVENT
BEGIN:VTIMEZONE
TZID:Brazil/East
X-LIC-LOCATION:Brazil/East
BEGIN:STANDARD
DTSTART;VALUE=DATE-TIME:20170218T230000
TZNAME:BRT
TZOFFSETFROM:-0200
TZOFFSETTO:-0300
END:STANDARD
END:VTIMEZONE
END:VCALENDAR
