BEGIN:VCALENDAR
VERSION:2.0
PRODID:-//Plone.org//NONSGML plone.app.event//EN
X-WR-TIMEZONE:Brazil/East
BEGIN:VEVENT
SUMMARY:AUDIÊNCIA PÚBLICA PARA DISCUTIR AS CONDIÇÕES DE TRABALHO DOS A
 GENTES COMUNITÁRIOS DE SAÚDE E AGENTES DE COMBATE AS EDEMIAS.
DTSTART;TZID=Brazil/East;VALUE=DATE-TIME:20170630T080000
DTEND;TZID=Brazil/East;VALUE=DATE-TIME:20170630T120000
DTSTAMP;VALUE=DATE-TIME:20260420T021315Z
UID:5b214840e97b498698ec888b9a3131f5@www.goiania.go.leg.br
CONTACT:VEREADOR ELIAS VAZ
CREATED;VALUE=DATE-TIME:20170626T221740Z
LAST-MODIFIED;VALUE=DATE-TIME:20170626T221746Z
LOCATION:AUDITÓRIO CARLOS EURICO
URL:https://www.goiania.go.leg.br/institucional/eventos/audiencia-publica-
 para-discutir-as-condicoes-de-trabalho-dos-agentes-comunitarios-de-saude-e
 -agentes-de-combate-as-edemias
END:VEVENT
BEGIN:VTIMEZONE
TZID:Brazil/East
X-LIC-LOCATION:Brazil/East
BEGIN:STANDARD
DTSTART;VALUE=DATE-TIME:20170218T230000
TZNAME:BRT
TZOFFSETFROM:-0200
TZOFFSETTO:-0300
END:STANDARD
END:VTIMEZONE
END:VCALENDAR
