BEGIN:VCALENDAR
VERSION:2.0
PRODID:-//Plone.org//NONSGML plone.app.event//EN
X-WR-TIMEZONE:Brazil/East
BEGIN:VEVENT
SUMMARY:AUDIÊNCIA PÚBLICA PARA DISCUTIR "ARRANJO PRODUTIVO LOCAL MODA GO
 IÂNIA".
DTSTART;TZID=Brazil/East;VALUE=DATE-TIME:20170619T150000
DTEND;TZID=Brazil/East;VALUE=DATE-TIME:20170619T180000
DTSTAMP;VALUE=DATE-TIME:20260419T174322Z
UID:b107a7685ab14ef6aaf3508bdcb87dfd@www.goiania.go.leg.br
CONTACT:VEREADOR VINICIUS CIRQUEIRA E VER. SABRINA GARCEZ
CREATED;VALUE=DATE-TIME:20170531T103512Z
LAST-MODIFIED;VALUE=DATE-TIME:20170531T103524Z
LOCATION:AUDITÓRIO JAIME CÂMARA
URL:https://www.goiania.go.leg.br/institucional/eventos/audiencia-publica-
 para-discutir-arranjo-produtivo-local-moda-goiania
END:VEVENT
BEGIN:VTIMEZONE
TZID:Brazil/East
X-LIC-LOCATION:Brazil/East
BEGIN:STANDARD
DTSTART;VALUE=DATE-TIME:20170218T230000
TZNAME:BRT
TZOFFSETFROM:-0200
TZOFFSETTO:-0300
END:STANDARD
END:VTIMEZONE
END:VCALENDAR
