BEGIN:VCALENDAR
VERSION:2.0
PRODID:-//Plone.org//NONSGML plone.app.event//EN
X-WR-TIMEZONE:Brazil/East
BEGIN:VEVENT
SUMMARY:AUDIÊNCIA PÚBLICA PARA DISCUTIR A MINUTA DE PRINCÍPIOS INFANTIL
  DA EDUCAÇÃO 
DTSTART;TZID=Brazil/East;VALUE=DATE-TIME:20160913T130000
DTEND;TZID=Brazil/East;VALUE=DATE-TIME:20160913T180000
DTSTAMP;VALUE=DATE-TIME:20260419T202355Z
UID:b3b97529b5714f73a2c9b39be22ed81a@www.goiania.go.leg.br
CONTACT:VER. PAULO DA FARMÁCIA
CREATED;VALUE=DATE-TIME:20160519T153635Z
LAST-MODIFIED;VALUE=DATE-TIME:20160519T153641Z
LOCATION:AUDITÓRIO JAIME CÂMARA
URL:https://www.goiania.go.leg.br/institucional/eventos/audiencia-publica-
 para-discutir-a-minuta-de-principios-infantil-da-educacao
END:VEVENT
BEGIN:VTIMEZONE
TZID:Brazil/East
X-LIC-LOCATION:Brazil/East
BEGIN:STANDARD
DTSTART;VALUE=DATE-TIME:20160220T230000
TZNAME:BRT
TZOFFSETFROM:-0200
TZOFFSETTO:-0300
END:STANDARD
END:VTIMEZONE
END:VCALENDAR
