BEGIN:VCALENDAR
VERSION:2.0
PRODID:-//Plone.org//NONSGML plone.app.event//EN
X-WR-TIMEZONE:Brazil/East
BEGIN:VEVENT
SUMMARY:AUDIÊNCIA PÚBLICA PARA DISCUTIR A L.O.A.
DTSTART;TZID=Brazil/East;VALUE=DATE-TIME:20171110T090000
DTEND;TZID=Brazil/East;VALUE=DATE-TIME:20171110T120000
DTSTAMP;VALUE=DATE-TIME:20260420T003417Z
UID:47ce80fe994a438295c68b00698565d0@www.goiania.go.leg.br
CONTACT:VEREADOR ANSELMO PEREIRA
CREATED;VALUE=DATE-TIME:20171031T114047Z
LAST-MODIFIED;VALUE=DATE-TIME:20171031T114054Z
LOCATION:SALA DE REUNIÃO DA PRESIDÊNCIA
URL:https://www.goiania.go.leg.br/institucional/eventos/audiencia-publica-
 para-discutir-a-l-o-a
END:VEVENT
BEGIN:VTIMEZONE
TZID:Brazil/East
X-LIC-LOCATION:Brazil/East
BEGIN:DAYLIGHT
DTSTART;VALUE=DATE-TIME:20171015T010000
TZNAME:BRST
TZOFFSETFROM:-0300
TZOFFSETTO:-0200
END:DAYLIGHT
END:VTIMEZONE
END:VCALENDAR
