BEGIN:VCALENDAR
VERSION:2.0
PRODID:-//Plone.org//NONSGML plone.app.event//EN
X-WR-TIMEZONE:Brazil/East
BEGIN:VEVENT
SUMMARY:AUDIÊNCIA PÚBLICA PARA DISCUTIR A IMPORTÂNCIA DO IPSM PARA OS S
 ERVIDORES MUNICIPAIS.
DTSTART;TZID=Brazil/East;VALUE=DATE-TIME:20170215T140000
DTEND;TZID=Brazil/East;VALUE=DATE-TIME:20170215T170000
DTSTAMP;VALUE=DATE-TIME:20260420T021159Z
UID:346ee93280e74cd49ed26c244f85b564@www.goiania.go.leg.br
CONTACT:VEREADOR LUCAS KITÃO
CREATED;VALUE=DATE-TIME:20170119T110942Z
LAST-MODIFIED;VALUE=DATE-TIME:20170119T110949Z
LOCATION:AUDITÓRIO CARLOS EURICO
URL:https://www.goiania.go.leg.br/institucional/eventos/audiencia-publica-
 para-discutir-a-importancia-do-ipsm-para-os-servidores-municipais
END:VEVENT
BEGIN:VTIMEZONE
TZID:Brazil/East
X-LIC-LOCATION:Brazil/East
BEGIN:DAYLIGHT
DTSTART;VALUE=DATE-TIME:20161016T010000
TZNAME:BRST
TZOFFSETFROM:-0300
TZOFFSETTO:-0200
END:DAYLIGHT
END:VTIMEZONE
END:VCALENDAR
