BEGIN:VCALENDAR
VERSION:2.0
PRODID:-//Plone.org//NONSGML plone.app.event//EN
X-WR-TIMEZONE:Brazil/East
BEGIN:VEVENT
SUMMARY:Audiência Pública debater sobre Projeto de Lei nº 020/2017
DTSTART;TZID=Brazil/East;VALUE=DATE-TIME:20170220T193000
DTEND;TZID=Brazil/East;VALUE=DATE-TIME:20170220T223000
DTSTAMP;VALUE=DATE-TIME:20260419T133039Z
UID:d348bba353984b25b7031462b069c05b@www.goiania.go.leg.br
CONTACT:Ver. Cabo Senna
CREATED;VALUE=DATE-TIME:20170220T124108Z
LAST-MODIFIED;VALUE=DATE-TIME:20170220T124122Z
LOCATION:Igreja Assembleia de Deus Ministério Fama - Jardim Abaporu - Av.
  Firenze qd. 09 lts. 39 e 40 Jardim Abaporu - Goiânia 
URL:https://www.goiania.go.leg.br/institucional/eventos/audiencia-publica-
 debater-sobre-projeto-de-lei-no-020-2017
END:VEVENT
BEGIN:VTIMEZONE
TZID:Brazil/East
X-LIC-LOCATION:Brazil/East
BEGIN:STANDARD
DTSTART;VALUE=DATE-TIME:20170218T230000
TZNAME:BRT
TZOFFSETFROM:-0200
TZOFFSETTO:-0300
END:STANDARD
END:VTIMEZONE
END:VCALENDAR
