BEGIN:VCALENDAR
VERSION:2.0
PRODID:-//Plone.org//NONSGML plone.app.event//EN
X-WR-TIMEZONE:Brazil/East
BEGIN:VEVENT
SUMMARY:ASSEMBLEIA GERAL DA UGOPOCI - POLICIA CIVIL-GO.
DTSTART;TZID=Brazil/East;VALUE=DATE-TIME:20161130T140000
DTEND;TZID=Brazil/East;VALUE=DATE-TIME:20161130T180000
DTSTAMP;VALUE=DATE-TIME:20260420T065419Z
UID:afcb749c1f634b6f964cd4f505400a83@www.goiania.go.leg.br
CONTACT:VEREADOR FELISBERTO TAVARES
CREATED;VALUE=DATE-TIME:20161111T115649Z
LAST-MODIFIED;VALUE=DATE-TIME:20161111T115655Z
LOCATION:AUDITÓRIO CARLOS EURICO
URL:https://www.goiania.go.leg.br/institucional/eventos/assembleia-geral-d
 a-ugopoci-policia-civil-go
END:VEVENT
BEGIN:VTIMEZONE
TZID:Brazil/East
X-LIC-LOCATION:Brazil/East
BEGIN:DAYLIGHT
DTSTART;VALUE=DATE-TIME:20161016T010000
TZNAME:BRST
TZOFFSETFROM:-0300
TZOFFSETTO:-0200
END:DAYLIGHT
END:VTIMEZONE
END:VCALENDAR
